BEGIN:VCALENDAR
VERSION:2.0
PRODID:-//El Giro - ECPv6.13.2.1//NONSGML v1.0//EN
CALSCALE:GREGORIAN
METHOD:PUBLISH
X-WR-CALNAME:El Giro
X-ORIGINAL-URL:https://elgiro.org
X-WR-CALDESC:Eventos para El Giro
REFRESH-INTERVAL;VALUE=DURATION:PT1H
X-Robots-Tag:noindex
X-PUBLISHED-TTL:PT1H
BEGIN:VTIMEZONE
TZID:UTC
BEGIN:STANDARD
TZOFFSETFROM:+0000
TZOFFSETTO:+0000
TZNAME:UTC
DTSTART:20260101T000000
END:STANDARD
END:VTIMEZONE
BEGIN:VTIMEZONE
TZID:Europe/Madrid
BEGIN:DAYLIGHT
TZOFFSETFROM:+0100
TZOFFSETTO:+0200
TZNAME:CEST
DTSTART:20260329T010000
END:DAYLIGHT
BEGIN:STANDARD
TZOFFSETFROM:+0200
TZOFFSETTO:+0100
TZNAME:CET
DTSTART:20261025T010000
END:STANDARD
END:VTIMEZONE
BEGIN:VEVENT
DTSTART;TZID=UTC:20260425T080000
DTEND;TZID=UTC:20260511T170000
DTSTAMP:20260425T153148
CREATED:20250611T154425Z
LAST-MODIFIED:20250611T154425Z
UID:213988-1777104000-1778518800@elgiro.org
SUMMARY:Biofilia y Arte en la Feria del libro Colombia
DESCRIPTION:25 de abril al 11 de mayo de 2026 \nLa feria del libro de Colombia dedicada a Barcelona y las flores contará este año con la presencia de la autora Koncha Pinos presentando su último libro Biofilia y arte . \nReserva tus fechas \nhttps://feriadellibro.com/ \n🌐 Más información sobre el libro: \n \n#biofiliayarte #konchapinos65 #thewellbeingplanet  #arteconpropósito #naturalezaviva #ecopsicología #psicoterapiacontemplativa
URL:https://elgiro.org/event/biofilia-y-arte-en-la-feria-del-libro-colombia/
ATTACH;FMTTYPE=image/png:https://elgiro.org/wp-content/uploads/2025/06/filbo-feria-internacional-del-libro-de-bogota-logo-1.png
END:VEVENT
BEGIN:VEVENT
DTSTART;TZID=UTC:20260426T080000
DTEND;TZID=UTC:20260511T170000
DTSTAMP:20260425T153148
CREATED:20250611T155003Z
LAST-MODIFIED:20250611T155003Z
UID:213991-1777190400-1778518800@elgiro.org
SUMMARY:Biofilia y Arte en la Feria del libro Argentina
DESCRIPTION:25 de abril al 11 de mayo de 2026 \nLa feria del libro de Argentina  dedicada a Barcelona y las flores contará este año con la presencia de la autora Koncha Pinos presentando su último libro Biofilia y arte . \nReserva tus fechas \nhttps://www.el-libro.org.ar/internacional/general/ \n🌐 Más información sobre el libro: \n \n#biofiliayarte #konchapinos65 #thewellbeingplanet  #arteconpropósito #naturalezaviva #ecopsicología #psicoterapiacontemplativa
URL:https://elgiro.org/event/biofilia-y-arte-en-la-feria-del-libro-argentina/
ATTACH;FMTTYPE=image/jpeg:https://elgiro.org/wp-content/uploads/2025/06/20200902075832e5a66503ab97ad48e8e3549d060e9644.jpg
END:VEVENT
BEGIN:VEVENT
DTSTART;VALUE=DATE:20260507
DTEND;VALUE=DATE:20260511
DTSTAMP:20260425T153148
CREATED:20260407T123217Z
LAST-MODIFIED:20260407T123217Z
UID:214364-1778112000-1778457599@elgiro.org
SUMMARY:Comer es decidir: cómo la alimentación crea —o rompe— la paz
DESCRIPTION:Por Koncha Pinós \nDescripción de la conferencia: \nCada vez que comemos\, tomamos una decisión que va mucho más allá del plato. Elegimos un tipo de agricultura\, una relación con la tierra\, una forma de tratar a otros seres vivos y\, en última instancia\, un modelo de mundo. \nEsta conferencia plantea que la paz no es solo un acuerdo político\, sino una práctica cotidiana que comienza en el cuerpo y en la manera en que nos alimentamos. Desde una mirada que integra ecología\, neurociencia y conciencia\, se explorará cómo los sistemas alimentarios pueden generar violencia —invisible pero real— o\, por el contrario\, sostener vidas más equilibradas\, justas y conectadas. \nUna invitación a entender la alimentación como un acto de responsabilidad profunda: con uno mismo\, con los otros y con la tierra. \nBiofilia y Arte: por qué vivir sin naturaleza nos está enfermando\nPor Koncha Pinós \nHemos normalizado vivir lejos de la naturaleza\, pero el cuerpo no lo ha hecho. Esta conferencia plantea una pregunta incómoda: ¿y si gran parte del malestar contemporáneo no fuera psicológico\, sino una consecuencia directa de nuestra desconexión de lo vivo? \nA través de Biofilia y Arte\, se explorará cómo la ausencia de naturaleza altera la percepción\, el sistema nervioso y la capacidad de sentir sentido\, y cómo ciertas formas\, colores y estructuras naturales pueden restaurar estados de equilibrio profundo. No se trata de bienestar como consumo\, sino de una transformación radical en la forma en que percibimos\, habitamos y nos relacionamos con el mundo. \nUna invitación a cuestionar lo que hemos aceptado como normal… y a recordar que el cuerpo sabe cuándo está lejos de casa. \nKoncha Pinós es investigadora y autora en neuroestética y conciencia\, y fundadora de The Wellbeing Planet. Su trabajo cuestiona los modelos actuales de bienestar y propone nuevas formas de relación entre arte\, naturaleza y conciencia. Es autora de 29 libros\, el ultimoBiofilia y Arte. \nMas sobre su trabajo www.thewellbeingplanet.org\, www.biophiliandart.com \nInvestigación \nBiofilia y Arte: Selvas y Bosques \n \nEl libro \nBIOFILIA Y ARTE \n \n#konchapinos65 #thewellbeingplanet #biofiliayarte
URL:https://elgiro.org/event/comer-es-decidir-como-la-alimentacion-crea-o-rompe-la-paz/
ATTACH;FMTTYPE=image/png:https://elgiro.org/wp-content/uploads/2025/06/56c1c11b420ef-biocultura_c1c76473.png
END:VEVENT
BEGIN:VEVENT
DTSTART;TZID=Europe/Madrid:20260510T160000
DTEND;TZID=Europe/Madrid:20260510T170000
DTSTAMP:20260425T153148
CREATED:20260407T125832Z
LAST-MODIFIED:20260407T125851Z
UID:214371-1778428800-1778432400@elgiro.org
SUMMARY:Biofilia y Arte: por qué vivir sin naturaleza nos está enfermando
DESCRIPTION:10/05/2026 – 15:00h\nSala 1 \nHemos normalizado vivir lejos de la naturaleza\, pero el cuerpo no lo ha hecho. Esta conferencia plantea una pregunta incómoda: ¿y si gran parte del malestar contemporáneo no fuera psicológico\, sino una consecuencia directa de nuestra desconexión de lo vivo?\nInformación actividad\nOrganiza: BioCultura\nExpositor: No\nTemática: Bienestar y salud\nPonentes\nKoncha Pinós Pei: Investigadora y autora de neuroestética y conciencia\, fundadora de The Wellbeing Planet. Su trabajo cuestiona los modelos actuales de bienestar y propone nuevas formas de relación entre arte\, naturaleza y conciencia. Es autora de 29 libros\, el ultimo Biofilia y Arte. \nWeb\nwww.thewellbeingplanet.org www.biophiliandart.com
URL:https://elgiro.org/event/biofilia-y-arte-por-que-vivir-sin-naturaleza-nos-esta-enfermando/
ATTACH;FMTTYPE=image/png:https://elgiro.org/wp-content/uploads/2025/06/56c1c11b420ef-biocultura_c1c76473.png
END:VEVENT
BEGIN:VEVENT
DTSTART;TZID=UTC:20260611T080000
DTEND;TZID=UTC:20260614T170000
DTSTAMP:20260425T153148
CREATED:20251015T134504Z
LAST-MODIFIED:20251015T134504Z
UID:214170-1781164800-1781456400@elgiro.org
SUMMARY:WORLD CREATIVITY CONFERENCE.
DESCRIPTION:June 11-14\, 2026\nSeoul National University\nSeoul\, South Korea \nhttps://www.worldcreativityconference.org/
URL:https://elgiro.org/event/world-creativity-conference/
ATTACH;FMTTYPE=image/jpeg:https://elgiro.org/wp-content/uploads/2025/10/main_home.jpg
END:VEVENT
BEGIN:VEVENT
DTSTART;TZID=UTC:20261001T080000
DTEND;TZID=UTC:20261031T170000
DTSTAMP:20260425T153148
CREATED:20251110T152704Z
LAST-MODIFIED:20251110T152704Z
UID:214218-1790841600-1793466000@elgiro.org
SUMMARY:Residencia Artística e Investigativa Busintana
DESCRIPTION:La Montaña de los Orígenes – Biofilia\, Arte y Conciencia\n\n\n\n\nResidencia inmersiva de 1 mes | Español e Inglés | Cupo limitado a 12 participantes\nColombia Artist Residency 2026 \n \nInscripciones \nhttps://forms.gle/f9PwmTh5uUTbP3YC9
URL:https://elgiro.org/event/residencia-artistica-e-investigativa-busintana/
ATTACH;FMTTYPE=image/jpeg:https://elgiro.org/wp-content/uploads/2025/11/WhatsApp-Image-2025-11-10-at-11.45.08.jpeg
END:VEVENT
END:VCALENDAR