BEGIN:VCALENDAR
VERSION:2.0
PRODID:-//El Giro - ECPv6.13.2.1//NONSGML v1.0//EN
CALSCALE:GREGORIAN
METHOD:PUBLISH
X-WR-CALNAME:El Giro
X-ORIGINAL-URL:https://elgiro.org
X-WR-CALDESC:Eventos para El Giro
REFRESH-INTERVAL;VALUE=DURATION:PT1H
X-Robots-Tag:noindex
X-PUBLISHED-TTL:PT1H
BEGIN:VTIMEZONE
TZID:UTC
BEGIN:STANDARD
TZOFFSETFROM:+0000
TZOFFSETTO:+0000
TZNAME:UTC
DTSTART:20240101T000000
END:STANDARD
END:VTIMEZONE
BEGIN:VEVENT
DTSTART;TZID=UTC:20240401T080000
DTEND;TZID=UTC:20240401T170000
DTSTAMP:20260423T104801
CREATED:20240401T002341Z
LAST-MODIFIED:20240401T002341Z
UID:212760-1711958400-1711990800@elgiro.org
SUMMARY:Nos inspira
DESCRIPTION:‘Badaq’: una fábula ecologista y anti-imperialista en tiempos convulsos\nEl escritor y actor Carlos Bardem invita a reflexionar en su nueva novela ‘Badaq’ (Plaza & Janés\, 2023) sobre el pasado imperial español\, la destrucción de la naturaleza y las nociones occidentales de progreso.
URL:https://elgiro.org/event/nos-inspira/
ATTACH;FMTTYPE=image/jpeg:https://elgiro.org/wp-content/uploads/2024/04/IMG_2258.jpg
END:VEVENT
END:VCALENDAR