BEGIN:VCALENDAR
VERSION:2.0
PRODID:-//El Giro - ECPv6.13.2.1//NONSGML v1.0//EN
CALSCALE:GREGORIAN
METHOD:PUBLISH
X-WR-CALNAME:El Giro
X-ORIGINAL-URL:https://elgiro.org
X-WR-CALDESC:Eventos para El Giro
REFRESH-INTERVAL;VALUE=DURATION:PT1H
X-Robots-Tag:noindex
X-PUBLISHED-TTL:PT1H
BEGIN:VTIMEZONE
TZID:America/Mexico_City
BEGIN:STANDARD
TZOFFSETFROM:-0600
TZOFFSETTO:-0600
TZNAME:CST
DTSTART:20240101T000000
END:STANDARD
END:VTIMEZONE
BEGIN:VEVENT
DTSTART;TZID=America/Mexico_City:20240223T090000
DTEND;TZID=America/Mexico_City:20240224T140000
DTSTAMP:20260419T125232
CREATED:20240104T162601Z
LAST-MODIFIED:20240104T172754Z
UID:212720-1708678800-1708783200@elgiro.org
SUMMARY:Querétaro\, México. 22 y 23 de Febrero\, 2024  "El Lienzo de la Compasión". Koncha Pinós
DESCRIPTION:The Wellbeing Planet presenta el lienzo de la compasión\, una travesía hacia el liderazgo femenino al encuentro de la Gran Madre. Esta propuesta única busca despertar la esencia femenina presente en cada individuo\, brindando una perspectiva revolucionaria sobre cómo esta conexión puede cultivar relaciones más saludables con uno mismo y con nuestro planeta\, un eco de la conexión intrínseca que compartimos con la Gran Madre. \nInspirado en la neurociencia contemplativa y la poderosa energía de la Gran Madre\, el método explora la integración de la energía femenina como un componente esencial para el equilibrio y la armonía\,\nno solo en nuestra psique\, sino también en la correlación con la Tierra y todos los seres. Al sintonizar con la sabiduría ancestral de la Gran Madre\, ‘El Lienzo de la Compasión’ se convierte en un camino transformador hacia la autenticidad\, la empatía y la colaboración. \nEste viaje no solo aborda el liderazgo en contextos profesionales\, sino que también se convierte en una invitación a una transformación personal profunda y una conexión más profunda con nuestro entorno. La propuesta se enraíza en la convicción de que\, al nutrir la conexión con nuestra esencia femenina y reconocer la correlación con la Tierra y todos los seres\, no solo mejoramos nuestras vidas individuales\, sino que también\ncontribuimos positivamente al bienestar colectivo y al cuidado de nuestro precioso planeta. \n  \nDuracion 10 horas distribuidas en 2 jornadas de 5 horas \nEl entrenamiento se distingue por su enfoque completamente experiencial\, diseñado para sumergir a los participantes en una jornada transformadora de autoexploración y conexión profunda. Aquí se detallan aspectos clave de la metodología experiencial y sus beneficios que desarrollaremos \nApreciamos profundamente que elijas sumarte a esta experiencia comunitaria única\, un viaje transformador que se teje con los hilos del “Lienzo de la Compasión”. Esta no es solo una formación; es un regalo\, una oportunidad para explorar la riqueza de la experiencia humana y femenina\, envuelta en la compasión que nos conecta a todos. \nEste curso no es solo una serie de lecciones\, sino un espacio sagrado donde la autenticidad florece\, las emociones encuentran su voz y el lienzo de la compasión nos abraza a todos. En cada actividad\, en cada respiración\, nos acercamos a la esencia misma de lo femenino\, reconociendo su poder\, su belleza y su capacidad de sanación. \nSi este viaje resuena contigo y deseas llevar esta experiencia a tu centro de retiros\, universidad\, empresa o colectivo\, estamos aquí para apoyarte. Ponte en contacto con nosotros en info@thewellbeingplanet.org y descubramos juntos cómo podemos tejer estos hilos de compasión en el tejido mismo de tu comunidad. \nAgradecemos tu participación y confianza en este viaje compartido hacia la autenticidad\, la conexión y el bienestar. Que el “Lienzo de la Compasión” continúe extendiendo sus beneficios a todos los seres. ¡Esperamos que esta experiencia marque el inicio de un viaje transformador para ti y para todos los que participan en este sagrado tejido de la compasión! \nNos vemos pronto \nThe Wellbeing Planet \nwww.thewellbeingplanet.org \n#compasión #bienestar \n\nInscripciones: https://forms.gle/Eka3ZLx8y4EPFxS17
URL:https://elgiro.org/event/queretaro-mexico-22-y-23-de-febrero-2024-el-lienzo-de-la-compasion-koncha-pinos/
ATTACH;FMTTYPE=image/jpeg:https://elgiro.org/wp-content/uploads/2024/01/WhatsApp-Image-2024-01-04-at-07.53.06.jpeg
END:VEVENT
END:VCALENDAR