BEGIN:VCALENDAR
VERSION:2.0
PRODID:-//El Giro - ECPv6.13.2.1//NONSGML v1.0//EN
CALSCALE:GREGORIAN
METHOD:PUBLISH
X-WR-CALNAME:El Giro
X-ORIGINAL-URL:https://elgiro.org
X-WR-CALDESC:Eventos para El Giro
REFRESH-INTERVAL;VALUE=DURATION:PT1H
X-Robots-Tag:noindex
X-PUBLISHED-TTL:PT1H
BEGIN:VTIMEZONE
TZID:UTC
BEGIN:STANDARD
TZOFFSETFROM:+0000
TZOFFSETTO:+0000
TZNAME:UTC
DTSTART:20240101T000000
END:STANDARD
END:VTIMEZONE
BEGIN:VEVENT
DTSTART;TZID=UTC:20240222T080000
DTEND;TZID=UTC:20240222T170000
DTSTAMP:20260421T115359
CREATED:20240222T022757Z
LAST-MODIFIED:20240222T022757Z
UID:212739-1708588800-1708621200@elgiro.org
SUMMARY:Nos inspira - Proyecto de Ecoaldea
DESCRIPTION:Buscamos personas que deseen formar parte de Proyecto de Ecoaldea 🌿 en la Amazonía de Ecuador\, personas que amen la Naturaleza \, deseen vivir una vida mas sana \, sembrar sus propios alimentos orgánicos\, practicar el trueque y vivir en una comunidad tranquila junto a personas con el mismo pensamiento. \nLeer mas  AQUI \n#ecoaldea #amazonia #naturaleza
URL:https://elgiro.org/event/nos-inspira-proyecto-de-ecoaldea/
ATTACH;FMTTYPE=image/jpeg:https://elgiro.org/wp-content/uploads/2024/02/429482409_906005621028225_2032301891848609489_n.jpg
END:VEVENT
END:VCALENDAR