BEGIN:VCALENDAR
VERSION:2.0
PRODID:-//El Giro - ECPv6.13.2.1//NONSGML v1.0//EN
CALSCALE:GREGORIAN
METHOD:PUBLISH
X-ORIGINAL-URL:https://elgiro.org
X-WR-CALDESC:Eventos para El Giro
REFRESH-INTERVAL;VALUE=DURATION:PT1H
X-Robots-Tag:noindex
X-PUBLISHED-TTL:PT1H
BEGIN:VTIMEZONE
TZID:UTC
BEGIN:STANDARD
TZOFFSETFROM:+0000
TZOFFSETTO:+0000
TZNAME:UTC
DTSTART:20240101T000000
END:STANDARD
END:VTIMEZONE
BEGIN:VEVENT
DTSTART;VALUE=DATE:20240206
DTEND;VALUE=DATE:20240207
DTSTAMP:20260423T123817
CREATED:20240206T193101Z
LAST-MODIFIED:20240206T193101Z
UID:212733-1707177600-1707263999@elgiro.org
SUMMARY:Duván López y The Wellbeing Planet Foundation anuncian su nuevo proyecto: SELVAS Y BOSQUES
DESCRIPTION:Duván López y The Wellbeing Planet Foundation se complacen en anunciar el lanzamiento de su emocionante nuevo proyecto\, SELVAS Y BOSQUES. Esta iniciativa\, que consiste en una exposición itinerante\, recorrerá diferentes países y se inaugurará en el World Art Duvai. \nEl propósito principal de esta exposición es sensibilizar al público sobre el valor fundamental de preservar y conservar nuestros bosques y selvas\, así como destacar la importancia del trabajo comunitario en la plantación de árboles y otras especies en lugares críticos para la salud de nuestro planeta. \nPara llevar a cabo este objetivo\, hemos seleccionado un proyecto inicial muy especial: la Tibetan Village Children School en Ladakh. Este proyecto\, liderado por jóvenes ladakíes comprometidos\, se dedica a la plantación de árboles y la preservación del ecosistema del Himalaya. Su labor anual tiene un valor estimado de 23.000 dólares. \nLa exposición SELVAS Y BOSQUES destinará el 50% de todos sus beneficios a este proyecto tan inspirador. Además\, cualquier persona que visite Ladakh tendrá la oportunidad de conocer de primera mano el trabajo de la Tibetan Village Children School y contribuir a él mediante donaciones individuales\, la adquisición de camisetas de la exposición\, cuadros u otras piezas artísticas disponibles. \nSi estás interesado en llevar esta exposición a tu ciudad y contribuir a esta noble causa\, no dudes en ponerte en contacto con nosotros en info@thewellbeingplanet.org. Juntos\, podemos hacer una diferencia significativa en la preservación de nuestros bosques y selvas para las generaciones futuras. Más información en www.thewellbeingplanet.org y www.duvanelartista.com \n#bosques #bienestar #selvas #himalaya
URL:https://elgiro.org/event/duvan-lopez-y-the-wellbeing-planet-foundation-anuncian-su-nuevo-proyecto-selvas-y-bosques/
END:VEVENT
END:VCALENDAR