BEGIN:VCALENDAR
VERSION:2.0
PRODID:-//El Giro - ECPv6.13.2.1//NONSGML v1.0//EN
CALSCALE:GREGORIAN
METHOD:PUBLISH
X-WR-CALNAME:El Giro
X-ORIGINAL-URL:https://elgiro.org
X-WR-CALDESC:Eventos para El Giro
REFRESH-INTERVAL;VALUE=DURATION:PT1H
X-Robots-Tag:noindex
X-PUBLISHED-TTL:PT1H
BEGIN:VTIMEZONE
TZID:UTC
BEGIN:STANDARD
TZOFFSETFROM:+0000
TZOFFSETTO:+0000
TZNAME:UTC
DTSTART:20230101T000000
END:STANDARD
END:VTIMEZONE
BEGIN:VEVENT
DTSTART;VALUE=DATE:20231231
DTEND;VALUE=DATE:20240115
DTSTAMP:20260423T144609
CREATED:20230915T201051Z
LAST-MODIFIED:20230915T201051Z
UID:212488-1703980800-1705276799@elgiro.org
SUMMARY:Explorando la Sabiduría Interna en India: Navegando la Transición Menopáusica
DESCRIPTION:  \nViaja con nosotros a India en diciembre de 2023 o enero de 2024 y date el tiempo de explorar un nuevo estado en tu vida. La transición menopáusica a menudo se percibe como un período de cambio y desafío\, pero también encierra un increíble potencial para el autodescubrimiento y la sabiduría interior. Este viaje\, que abarca desde el inicio de la menstruación (menarquia) hasta la cesación de la menstruación (menopausia)\, es un período profundo de transformación. \nEstructura del Retiro: \nEste retiro está diseñado en torno a cuatro pilares fundamentales que ofrecen un enfoque holístico para abordar la transición menopáusica: \n1. Ayurveda: Descubrirás las profundas enseñanzas de la Ayurveda\, el antiguo sistema médico holístico de la India. Aprenderás sobre el equilibrio de los doshas\, la importancia de la alimentación y las hierbas ayurvédicas para el bienestar durante la menopausia. La Ayurveda proporcionará valiosos conocimientos sobre cómo equilibrar los aspectos físicos\, emocionales y mentales de tu cuerpo en esta etapa de transición. \n2. Yoga y Meditación: Las prácticas de yoga y meditación son fundamentales para este viaje de autodescubrimiento. Experimentarás sesiones de yoga diseñadas para fomentar la conexión mente-cuerpo y explorarás la meditación como una herramienta para calmar la mente\, reducir el estrés y descubrir una mayor claridad interior. \n3. Acompañamiento Psicológico: Reconocemos la importancia de un acompañamiento psicológico en esta etapa de cambio. Se ofrecerán sesiones individuales con psicólogos expertos que pueden ayudarte a explorar tus emociones\, miedos y desafíos personales de manera confidencial y comprensiva. Estas sesiones ofrecen un espacio seguro para la autorreflexión y el crecimiento emocional. \n4. Paisajes de Kerala: Este retiro se llevará a cabo en el exuberante estado de Kerala\, conocido como la cuna del Ayurveda. Aquí\, serás testigo de paisajes impresionantes que incluyen serenos backwaters\, playas de arena dorada\, colinas cubiertas de vegetación y plantaciones de especias aromáticas. Los hermosos paisajes de Kerala se convertirán en el telón de fondo de tu viaje de autodescubrimiento\, brindando un entorno tranquilo y rejuvenecedor para tu exploración personal. \n5. Ritual y Celebración: Celebrarás tu viaje de transformación a través de rituales significativos\, incluido un ritual del fuego para honrar la cesación de la menstruación. Estos rituales simbolizan el desprendimiento de lo antiguo y la bienvenida a lo nuevo\, marcando tu crecimiento personal y tu resiliencia. \nEste retiro es un espacio completo para la autorreflexión\, el crecimiento personal y la conexión con otras mujeres que están pasando por experiencias similares. Te alentamos a unirte a nosotros en este viaje de descubrimiento y autocompasión mientras exploras un nuevo estado en tu vida\, sumergiéndote en los paisajes inspiradores de Kerala\, apoyándote en los pilares del Ayurveda\, el yoga\, la meditación y el acompañamiento psicológico. \nMas información AQUI
URL:https://elgiro.org/event/explorando-la-sabiduria-interna-en-india-navegando-la-transicion-menopausica-4/
ATTACH;FMTTYPE=image/jpeg:https://elgiro.org/wp-content/uploads/2023/09/WhatsApp-Image-2023-08-29-at-07.17.10.jpeg
END:VEVENT
BEGIN:VEVENT
DTSTART;TZID=UTC:20231231T080000
DTEND;TZID=UTC:20240114T170000
DTSTAMP:20260423T144609
CREATED:20230906T095104Z
LAST-MODIFIED:20230906T095104Z
UID:212459-1704009600-1705251600@elgiro.org
SUMMARY:Explorando la Sabiduría Interna en India: Navegando la Transición Menopáusica
DESCRIPTION:  \nViaja con nosotros a India en diciembre de 2023 o enero de 2024 y date el tiempo de explorar un nuevo estado en tu vida. La transición menopáusica a menudo se percibe como un período de cambio y desafío\, pero también encierra un increíble potencial para el autodescubrimiento y la sabiduría interior. Este viaje\, que abarca desde el inicio de la menstruación (menarquia) hasta la cesación de la menstruación (menopausia)\, es un período profundo de transformación. \nEstructura del Retiro: \nEste retiro está diseñado en torno a cuatro pilares fundamentales que ofrecen un enfoque holístico para abordar la transición menopáusica: \n1. Ayurveda: Descubrirás las profundas enseñanzas de la Ayurveda\, el antiguo sistema médico holístico de la India. Aprenderás sobre el equilibrio de los doshas\, la importancia de la alimentación y las hierbas ayurvédicas para el bienestar durante la menopausia. La Ayurveda proporcionará valiosos conocimientos sobre cómo equilibrar los aspectos físicos\, emocionales y mentales de tu cuerpo en esta etapa de transición. \n2. Yoga y Meditación: Las prácticas de yoga y meditación son fundamentales para este viaje de autodescubrimiento. Experimentarás sesiones de yoga diseñadas para fomentar la conexión mente-cuerpo y explorarás la meditación como una herramienta para calmar la mente\, reducir el estrés y descubrir una mayor claridad interior. \n3. Acompañamiento Psicológico: Reconocemos la importancia de un acompañamiento psicológico en esta etapa de cambio. Se ofrecerán sesiones individuales con psicólogos expertos que pueden ayudarte a explorar tus emociones\, miedos y desafíos personales de manera confidencial y comprensiva. Estas sesiones ofrecen un espacio seguro para la autorreflexión y el crecimiento emocional. \n4. Paisajes de Kerala: Este retiro se llevará a cabo en el exuberante estado de Kerala\, conocido como la cuna del Ayurveda. Aquí\, serás testigo de paisajes impresionantes que incluyen serenos backwaters\, playas de arena dorada\, colinas cubiertas de vegetación y plantaciones de especias aromáticas. Los hermosos paisajes de Kerala se convertirán en el telón de fondo de tu viaje de autodescubrimiento\, brindando un entorno tranquilo y rejuvenecedor para tu exploración personal. \n5. Ritual y Celebración: Celebrarás tu viaje de transformación a través de rituales significativos\, incluido un ritual del fuego para honrar la cesación de la menstruación. Estos rituales simbolizan el desprendimiento de lo antiguo y la bienvenida a lo nuevo\, marcando tu crecimiento personal y tu resiliencia. \nEste retiro es un espacio completo para la autorreflexión\, el crecimiento personal y la conexión con otras mujeres que están pasando por experiencias similares. Te alentamos a unirte a nosotros en este viaje de descubrimiento y autocompasión mientras exploras un nuevo estado en tu vida\, sumergiéndote en los paisajes inspiradores de Kerala\, apoyándote en los pilares del Ayurveda\, el yoga\, la meditación y el acompañamiento psicológico. \nMas información AQUI
URL:https://elgiro.org/event/explorando-la-sabiduria-interna-en-india-navegando-la-transicion-menopausica-2/
ATTACH;FMTTYPE=image/jpeg:https://elgiro.org/wp-content/uploads/2023/09/WhatsApp-Image-2023-09-06-at-03.10.01.jpeg
END:VEVENT
BEGIN:VEVENT
DTSTART;VALUE=DATE:20240101
DTEND;VALUE=DATE:20240115
DTSTAMP:20260423T144609
CREATED:20230915T201255Z
LAST-MODIFIED:20230915T201255Z
UID:212490-1704067200-1705276799@elgiro.org
SUMMARY:INDIA AYURVEDICA\, REJUVENECE EL CUERPO Y EL ALMA
DESCRIPTION:Experiencia transformadora en India: Recorre la historia y espiritualidad en Delhi\, explora la riqueza cultural de Rajasthan y Vrindavan\, y sumérgete en un retiro de bienestar en Kerala. Nutre tu cuerpo y mente con Ayurveda\, yoga y meditación\, y conecta con su esencia espiritual. \nDía 1: Llegada a Delhi Explora la vibrante mezcla de culturas en la parte antigua de Delhi\, visita la Jama Masjid\, pasea por Chandni Chowk y disfruta de la arquitectura mogol en el Fuerte Rojo. \nDía 2: Delhi Hindu Explora los templos hindúes más famosos de Delhi\, como el Templo Akshardham y el Templo de Loto. Sumérgete en la espiritualidad y la belleza arquitectónica. \nDía 3: Delhi Panorámica Recorre los lugares emblemáticos de Delhi\, como el Qutub Minar\, India Gate y el Templo de Hanuman. Disfruta de las vistas panorámicas de la ciudad. \nDía 4: Jaipur\, la Ciudad Rosa Viaja a Jaipur y visita el majestuoso Fuerte Amber\, el Palacio de los Vientos y el Palacio de la Ciudad. Sumérgete en la rica historia de la realeza rajput. \nDía 5: Vrindavan y Mathura Explora la ciudad sagrada de Vrindavan\, lugar de nacimiento de Krishna\, y Mathura\, lugar de su infancia. Visita templos y sumérgete en la devoción. \nDía 6: Agra\, la Ciudad del Taj Mahal Contempla la maravilla del mundo\, el Taj Mahal\, y visita el Fuerte de Agra\, ambos con impresionantes detalles arquitectónicos. \nDía 7: Vuelo hacia Kerala En este día\, volarás desde Jaipur hacia Kerala\, una región en el sur de la India conocida por su exuberante naturaleza y tradiciones culturales únicas. Al llegar\, podrás disfrutar de la belleza tropical de Kerala y sumergirte en la serenidad de sus paisajes. \nDía 8 al 14: Retiro de Ayurveda\, Yoga\, Meditación y Nutrición en Kerala \nDurante estos días\, te sumergirás en un retiro de bienestar en Kerala\, donde te conectarás profundamente con tu cuerpo\, mente y espíritu a través de prácticas ancestrales de Ayurveda\, yoga y meditación. \nCada día comenzará con una sesión de yoga al amanecer para estirar y fortalecer tu cuerpo\, seguida de un desayuno nutritivo basado en principios ayurvédicos que te proporcionará energía para el día. A lo largo del retiro\, recibirás tratamientos de Ayurveda personalizados\, diseñados para equilibrar tu dosha y mejorar tu bienestar general. Durante las horas de descanso\, podrás explorar los exuberantes jardines y paisajes de Kerala\, o simplemente descansar y meditar en un ambiente tranquilo y sereno.Además\, aprenderás sobre la nutrición consciente y cómo alimentar tu cuerpo de manera saludable y equilibrada de acuerdo con los principios del Ayurveda. \nEste retiro te brindará una experiencia única para revitalizar tu cuerpo\, calmar tu mente y nutrir tu espíritu\, mientras te sumerges en la sabiduría antigua de la India y sus tradiciones de bienestar. Será una oportunidad para renovarte por dentro y por fuera y llevar contigo herramientas para mantener un equilibrio saludable en tu vida diaria. \nInformes Aquí
URL:https://elgiro.org/event/india-ayurvedica-rejuvenece-el-cuerpo-y-el-alma/
ATTACH;FMTTYPE=image/jpeg:https://elgiro.org/wp-content/uploads/2023/09/WhatsApp-Image-2023-08-29-at-07.17.10.jpeg
END:VEVENT
END:VCALENDAR