BEGIN:VCALENDAR
VERSION:2.0
PRODID:-//El Giro - ECPv6.13.2.1//NONSGML v1.0//EN
CALSCALE:GREGORIAN
METHOD:PUBLISH
X-WR-CALNAME:El Giro
X-ORIGINAL-URL:https://elgiro.org
X-WR-CALDESC:Eventos para El Giro
REFRESH-INTERVAL;VALUE=DURATION:PT1H
X-Robots-Tag:noindex
X-PUBLISHED-TTL:PT1H
BEGIN:VTIMEZONE
TZID:UTC
BEGIN:STANDARD
TZOFFSETFROM:+0000
TZOFFSETTO:+0000
TZNAME:UTC
DTSTART:20230101T000000
END:STANDARD
END:VTIMEZONE
BEGIN:VEVENT
DTSTART;VALUE=DATE:20231217
DTEND;VALUE=DATE:20240104
DTSTAMP:20260423T160053
CREATED:20230906T094442Z
LAST-MODIFIED:20230906T094934Z
UID:212455-1702771200-1704326399@elgiro.org
SUMMARY:Explorando la Sabiduría Interna en India: Navegando la Transición Menopáusica
DESCRIPTION:Viaja con nosotros a India en diciembre de 2023 o enero de 2024 y date el tiempo de explorar un nuevo estado en tu vida. La transición menopáusica a menudo se percibe como un período de cambio y desafío\, pero también encierra un increíble potencial para el autodescubrimiento y la sabiduría interior. Este viaje\, que abarca desde el inicio de la menstruación (menarquia) hasta la cesación de la menstruación (menopausia)\, es un período profundo de transformación. \nEstructura del Retiro: \nEste retiro está diseñado en torno a cuatro pilares fundamentales que ofrecen un enfoque holístico para abordar la transición menopáusica: \n1. Ayurveda: Descubrirás las profundas enseñanzas de la Ayurveda\, el antiguo sistema médico holístico de la India. Aprenderás sobre el equilibrio de los doshas\, la importancia de la alimentación y las hierbas ayurvédicas para el bienestar durante la menopausia. La Ayurveda proporcionará valiosos conocimientos sobre cómo equilibrar los aspectos físicos\, emocionales y mentales de tu cuerpo en esta etapa de transición. \n2. Yoga y Meditación: Las prácticas de yoga y meditación son fundamentales para este viaje de autodescubrimiento. Experimentarás sesiones de yoga diseñadas para fomentar la conexión mente-cuerpo y explorarás la meditación como una herramienta para calmar la mente\, reducir el estrés y descubrir una mayor claridad interior. \n3. Acompañamiento Psicológico: Reconocemos la importancia de un acompañamiento psicológico en esta etapa de cambio. Se ofrecerán sesiones individuales con psicólogos expertos que pueden ayudarte a explorar tus emociones\, miedos y desafíos personales de manera confidencial y comprensiva. Estas sesiones ofrecen un espacio seguro para la autorreflexión y el crecimiento emocional. \n4. Paisajes de Kerala: Este retiro se llevará a cabo en el exuberante estado de Kerala\, conocido como la cuna del Ayurveda. Aquí\, serás testigo de paisajes impresionantes que incluyen serenos backwaters\, playas de arena dorada\, colinas cubiertas de vegetación y plantaciones de especias aromáticas. Los hermosos paisajes de Kerala se convertirán en el telón de fondo de tu viaje de autodescubrimiento\, brindando un entorno tranquilo y rejuvenecedor para tu exploración personal. \n5. Ritual y Celebración: Celebrarás tu viaje de transformación a través de rituales significativos\, incluido un ritual del fuego para honrar la cesación de la menstruación. Estos rituales simbolizan el desprendimiento de lo antiguo y la bienvenida a lo nuevo\, marcando tu crecimiento personal y tu resiliencia. \nEste retiro es un espacio completo para la autorreflexión\, el crecimiento personal y la conexión con otras mujeres que están pasando por experiencias similares. Te alentamos a unirte a nosotros en este viaje de descubrimiento y autocompasión mientras exploras un nuevo estado en tu vida\, sumergiéndote en los paisajes inspiradores de Kerala\, apoyándote en los pilares del Ayurveda\, el yoga\, la meditación y el acompañamiento psicológico. \nMas información AQUI
URL:https://elgiro.org/event/explorando-la-sabiduria-interna-en-india-navegando-la-transicion-menopausica/
ATTACH;FMTTYPE=image/jpeg:https://elgiro.org/wp-content/uploads/2023/09/WhatsApp-Image-2023-09-06-at-03.10.01.jpeg
END:VEVENT
BEGIN:VEVENT
DTSTART;VALUE=DATE:20231217
DTEND;VALUE=DATE:20240104
DTSTAMP:20260423T160053
CREATED:20230915T200922Z
LAST-MODIFIED:20230915T200922Z
UID:212485-1702771200-1704326399@elgiro.org
SUMMARY:Explorando la Sabiduría Interna en India: Navegando la Transición Menopáusica
DESCRIPTION:Viaja con nosotros a India en diciembre de 2023 o enero de 2024 y date el tiempo de explorar un nuevo estado en tu vida. La transición menopáusica a menudo se percibe como un período de cambio y desafío\, pero también encierra un increíble potencial para el autodescubrimiento y la sabiduría interior. Este viaje\, que abarca desde el inicio de la menstruación (menarquia) hasta la cesación de la menstruación (menopausia)\, es un período profundo de transformación. \nEstructura del Retiro: \nEste retiro está diseñado en torno a cuatro pilares fundamentales que ofrecen un enfoque holístico para abordar la transición menopáusica: \n1. Ayurveda: Descubrirás las profundas enseñanzas de la Ayurveda\, el antiguo sistema médico holístico de la India. Aprenderás sobre el equilibrio de los doshas\, la importancia de la alimentación y las hierbas ayurvédicas para el bienestar durante la menopausia. La Ayurveda proporcionará valiosos conocimientos sobre cómo equilibrar los aspectos físicos\, emocionales y mentales de tu cuerpo en esta etapa de transición. \n2. Yoga y Meditación: Las prácticas de yoga y meditación son fundamentales para este viaje de autodescubrimiento. Experimentarás sesiones de yoga diseñadas para fomentar la conexión mente-cuerpo y explorarás la meditación como una herramienta para calmar la mente\, reducir el estrés y descubrir una mayor claridad interior. \n3. Acompañamiento Psicológico: Reconocemos la importancia de un acompañamiento psicológico en esta etapa de cambio. Se ofrecerán sesiones individuales con psicólogos expertos que pueden ayudarte a explorar tus emociones\, miedos y desafíos personales de manera confidencial y comprensiva. Estas sesiones ofrecen un espacio seguro para la autorreflexión y el crecimiento emocional. \n4. Paisajes de Kerala: Este retiro se llevará a cabo en el exuberante estado de Kerala\, conocido como la cuna del Ayurveda. Aquí\, serás testigo de paisajes impresionantes que incluyen serenos backwaters\, playas de arena dorada\, colinas cubiertas de vegetación y plantaciones de especias aromáticas. Los hermosos paisajes de Kerala se convertirán en el telón de fondo de tu viaje de autodescubrimiento\, brindando un entorno tranquilo y rejuvenecedor para tu exploración personal. \n5. Ritual y Celebración: Celebrarás tu viaje de transformación a través de rituales significativos\, incluido un ritual del fuego para honrar la cesación de la menstruación. Estos rituales simbolizan el desprendimiento de lo antiguo y la bienvenida a lo nuevo\, marcando tu crecimiento personal y tu resiliencia. \nEste retiro es un espacio completo para la autorreflexión\, el crecimiento personal y la conexión con otras mujeres que están pasando por experiencias similares. Te alentamos a unirte a nosotros en este viaje de descubrimiento y autocompasión mientras exploras un nuevo estado en tu vida\, sumergiéndote en los paisajes inspiradores de Kerala\, apoyándote en los pilares del Ayurveda\, el yoga\, la meditación y el acompañamiento psicológico. \nMas información AQUI
URL:https://elgiro.org/event/explorando-la-sabiduria-interna-en-india-navegando-la-transicion-menopausica-3/
ATTACH;FMTTYPE=image/jpeg:https://elgiro.org/wp-content/uploads/2023/09/WhatsApp-Image-2023-08-29-at-07.17.10.jpeg
END:VEVENT
END:VCALENDAR