BEGIN:VCALENDAR
VERSION:2.0
PRODID:-//El Giro - ECPv6.13.2.1//NONSGML v1.0//EN
CALSCALE:GREGORIAN
METHOD:PUBLISH
X-ORIGINAL-URL:https://elgiro.org
X-WR-CALDESC:Eventos para El Giro
REFRESH-INTERVAL;VALUE=DURATION:PT1H
X-Robots-Tag:noindex
X-PUBLISHED-TTL:PT1H
BEGIN:VTIMEZONE
TZID:UTC
BEGIN:STANDARD
TZOFFSETFROM:+0000
TZOFFSETTO:+0000
TZNAME:UTC
DTSTART:20230101T000000
END:STANDARD
END:VTIMEZONE
BEGIN:VEVENT
DTSTART;TZID=UTC:20231216T080000
DTEND;TZID=UTC:20231216T170000
DTSTAMP:20260425T115831
CREATED:20231216T114208Z
LAST-MODIFIED:20231216T114421Z
UID:212630-1702713600-1702746000@elgiro.org
SUMMARY:World Future Energy Summit\, taking place 16 - 18 April 2024 at ADNEC\, Abu Dhabi.
DESCRIPTION:The Energy to Lead \n\nThe World Future Energy Summit is a global think tank\, powered by global innovation\, pioneering minds and groundbreaking insights. Bringing together industry influencers\, problem solvers and cutting-edge solutions\, we’re focused on creating the blueprints for a sustainable future.\n\n\n\n\n16-18 April 2024\nADNEC Abu Dhabi\n\n\n\nhttps://www.worldfutureenergysummit.com/en-gb.html
URL:https://elgiro.org/event/world-future-energy-summit-taking-place-16-18-april-2024-at-adnec-abu-dhabi/
ATTACH;FMTTYPE=image/png:https://elgiro.org/wp-content/uploads/2023/12/wfes-2023-logo.png
END:VEVENT
END:VCALENDAR