BEGIN:VCALENDAR
VERSION:2.0
PRODID:-//El Giro - ECPv6.13.2.1//NONSGML v1.0//EN
CALSCALE:GREGORIAN
METHOD:PUBLISH
X-ORIGINAL-URL:https://elgiro.org
X-WR-CALDESC:Eventos para El Giro
REFRESH-INTERVAL;VALUE=DURATION:PT1H
X-Robots-Tag:noindex
X-PUBLISHED-TTL:PT1H
BEGIN:VTIMEZONE
TZID:UTC
BEGIN:STANDARD
TZOFFSETFROM:+0000
TZOFFSETTO:+0000
TZNAME:UTC
DTSTART:20230101T000000
END:STANDARD
END:VTIMEZONE
BEGIN:VEVENT
DTSTART;TZID=UTC:20231130T080000
DTEND;TZID=UTC:20231212T170000
DTSTAMP:20260423T160444
CREATED:20230828T131315Z
LAST-MODIFIED:20230828T131315Z
UID:212452-1701331200-1702400400@elgiro.org
SUMMARY:Cumbre del Cambio Climatico\, 2023\, Dubai del 30 de Noviembre al 12 diciembre
DESCRIPTION:PATHWAY\nTO COP28 UAE\n30 Nov – 12 Dec 2023\, Expo City Dubai \n\n\n\nUNITE. ACT. DELIVER. \nWe are at a halfway point. It has been 7 years since Paris\, with 7 years to go to 2030. \nWe must respond to the facts. We need to reduce emissions by 43% by 2030 and course correct on adaptation\, finance and loss and damage. \nWe will deliver a transformational COP of action. A COP for all. \nVer mas detalles AQUI
URL:https://elgiro.org/event/cumbre-del-cambio-climatico-2023-dubai-del-30-de-noviembre-al-12-diciembre/
ATTACH;FMTTYPE=image/jpeg:https://elgiro.org/wp-content/uploads/2023/07/WhatsApp-Image-2023-07-10-at-14.09.37.jpeg
END:VEVENT
BEGIN:VEVENT
DTSTART;VALUE=DATE:20231201
DTEND;VALUE=DATE:20231215
DTSTAMP:20260423T160444
CREATED:20230710T182443Z
LAST-MODIFIED:20230710T182443Z
UID:212432-1701388800-1702598399@elgiro.org
SUMMARY:Estamos preparando...
DESCRIPTION:En el #RoadtoCOP28\, #DrSultanAlJaber y el equipo de la Presidencia #COP28 recibieron a la comunidad diplomática en Abu Dhabi\, participando con misiones extranjeras en los Emiratos Árabes Unidos y compartiendo más sobre nuestros planes y prioridades. La acción climática debe ser una prioridad en la acción multilateral y la diplomacia\, dijo #COP28 Presidente designado a la comunidad diplomática en una sesión informativa sobre los planes y prioridades de la COP28 para las misiones extranjeras en los Emiratos Árabes Unidos. #COP28UAE
URL:https://elgiro.org/event/estamos-preparando/
ATTACH;FMTTYPE=image/jpeg:https://elgiro.org/wp-content/uploads/2023/07/WhatsApp-Image-2023-07-10-at-14.09.37.jpeg
END:VEVENT
BEGIN:VEVENT
DTSTART;VALUE=DATE:20231211
DTEND;VALUE=DATE:20231212
DTSTAMP:20260423T160444
CREATED:20231211T134516Z
LAST-MODIFIED:20231211T134516Z
UID:212618-1702252800-1702339199@elgiro.org
SUMMARY:La Influencia Transformadora de la Arquitectura en el Bienestar :  Neuroestética y  Salud Mental por Koncha Pinós
DESCRIPTION:La arquitectura\, más allá de ser simplemente el diseño y construcción de espacios físicos\, juega un papel fundamental en la configuración y transformación de la sociedad. Un arquitecto no solo crea estructuras; también moldea entornos que afectan directamente la vida y el bienestar de quienes los habitan. La relación entre la arquitectura y el bienestar societal se profundiza cuando exploramos la conexión con la neuroestética y la salud mental.\nA lo largo de la historia\, la arquitectura ha sido una fuerza evolutiva que ha dejado una impronta indeleble en la sociedad y el bienestar humano. Desde las majestuosas pirámides del antiguo Egipto hasta las vanguardistas estructuras contemporáneas\, la arquitectura ha sido un espejo de las aspiraciones y necesidades culturales de la humanidad. En la antigüedad\, las ciudades se erigían como testimonios de poder y estatus\, mientras que en la Edad Media\, las imponentes catedrales se alzaban como símbolos de fe y grandeza.\nDurante el Renacimiento\, el enfoque se desplazó hacia la proporción y la armonía\, reflejando una conexión más íntima entre la arquitectura y la experiencia humana. Con la Revolución Industrial\, las ciudades se transformaron para dar cabida a la creciente población urbana\, dando paso a la planificación urbana y a la concepción de espacios públicos. En el siglo XX\, la arquitectura moderna y funcionalista buscó abordar las necesidades prácticas de una sociedad en constante cambio.\nHoy\, la arquitectura no solo modela la apariencia de nuestras ciudades\, sino que también se ha convertido en una herramienta para mejorar la salud mental y el bienestar societal\, fusionando la estética con la funcionalidad de maneras innovadoras y reflexivas. \nLa Ciudad como Lienzo Arquitectónico: Economía y Dinámicas Sociales\nLa arquitectura tiene el poder de moldear ciudades enteras\, afectando su economía y dinámicas sociales. La disposición de edificios\, la planificación urbana y la creación de espacios públicos influyen en la interacción y el flujo de personas. Un diseño bien pensado puede fomentar la conexión entre comunidades\, estimular la actividad económica y promover la inclusión social.\nUn ejemplo paradigmático es la revitalización de áreas urbanas degradadas. Mediante intervenciones arquitectónicas que transforman antiguas zonas industriales en espacios residenciales y comerciales\, se generan oportunidades económicas y se revitaliza el tejido social. Estos cambios no solo transforman la apariencia de la ciudad\, sino que también tienen un impacto directo en la calidad de vida de sus habitantes. \nLa Neuroestética y la Experiencia Sensorial en la Arquitectura\nLa neuroestética estudia cómo las experiencias estéticas afectan al cerebro y las emociones humanas. En el contexto arquitectónico\, esto implica considerar cómo los diseños espaciales impactan en los sentidos y emociones de las personas. La arquitectura puede crear entornos que estimulan positivamente la mente\, mejorando así la calidad de vida y el bienestar emocional.\nLa elección de colores\, texturas\, formas y la manipulación de la luz pueden tener un impacto significativo en la percepción del espacio. Un edificio diseñado con principios de neuroestética puede generar sensaciones de calma\, inspiración o confort\, contribuyendo a un entorno que favorece el equilibrio emocional. \nEspacios que Sanan: La Salud Mental y la Arquitectura\nLa conexión entre la arquitectura y la salud mental es evidente en el diseño de espacios destinados a la atención médica y el bienestar psicológico. Hospitales\, clínicas y centros de salud mental se benefician enormemente de entornos diseñados para promover la curación y la relajación.\nLa consideración de la luz natural\, la creación de espacios verdes y la disposición de áreas de descanso son elementos clave en el diseño de entornos terapéuticos. Estos factores no solo afectan positivamente a los pacientes\, sino también al personal médico\, creando un ambiente propicio para el cuidado y la recuperación. \nEl Papel del Urbanismo Sostenible en la Salud Societal\nLa arquitectura no solo afecta el bienestar individual\, sino que también juega un papel crucial en la salud colectiva a través del urbanismo sostenible. El diseño de ciudades que fomenta la movilidad sostenible\, la accesibilidad y la preservación de espacios naturales contribuye a comunidades más saludables y resilientes.\nLa proximidad de áreas verdes\, la planificación de rutas peatonales y ciclovías\, y la creación de espacios públicos promueven la actividad física y la interacción social. Estas intervenciones no solo mejoran la salud física\, sino que también reducen el estrés y fortalecen los lazos comunitarios\, elementos fundamentales para el bienestar mental. \nLa Arquitectura como Agente Transformador del Bienestar y el Espacio Interior\nLa arquitectura es mucho más que la construcción de edificios; es una herramienta poderosa para transformar ciudades\, economías y dinámicas sociales. La aplicación consciente de principios de neuroestética en el diseño arquitectónico contribuye a entornos que estimulan positivamente la mente\, mientras que la consideración de la salud mental se refleja en espacios diseñados para sanar y rejuvenecer. \nLa relación entre arquitectura y meditación se establece en la capacidad única de la arquitectura para influir en la experiencia emocional y mental de los individuos. Los espacios arquitectónicos diseñados con sensibilidad pueden convertirse en facilitadores poderosos para la meditación\, permitiendo el desarrollo de un diálogo interno más profundo y enriquecedor.\nLa creación de entornos propicios para la meditación comienza con la consideración cuidadosa de la tranquilidad y el silencio. La arquitectura puede configurar espacios interiores que ofrecen refugios silenciosos\, aislados del ruido exterior. Materiales que absorben el sonido y técnicas de diseño que minimizan distracciones contribuyen a un ambiente que invita a la concentración y la serenidad.\nLa relación con la naturaleza desempeña un papel fundamental. La arquitectura puede integrar la luz natural mediante la incorporación de grandes ventanales y la conexión visual con entornos naturales\, creando un ambiente luminoso y relajado. La presencia de elementos naturales\, como plantas o agua\, contribuye a establecer una conexión más profunda con la naturaleza y promueve la armonía interior.\nEl diseño simbólico y espacial también influye en la meditación. Elementos arquitectónicos estratégicamente colocados pueden guiar la atención y facilitar la contemplación. Espacios fluidos y secuencias arquitectónicas pueden crear un viaje sensorial que invita a la introspección.\nLa elección de materiales es otra dimensión clave. La utilización de materiales naturales\, como madera y piedra\, no solo aporta una estética cálida\, sino que también tiene un impacto positivo en la percepción sensorial\, creando una sensación de confort y conexión con la tierra.\nLa arquitectura y la meditación convergen para crear espacios que no solo cumplen con funciones prácticas\, sino que también nutren la mente y el espíritu.\nLa arquitectura\, al considerar la acústica\, la luz\, la conexión con la naturaleza\, el simbolismo y los materiales\, se convierte en una herramienta que facilita la introspección y el desarrollo interior\, ofreciendo lugares que no solo son físicamente acogedores\, sino también espiritualmente enriquecedores. Estos espacios diseñados con intención se convierten en aliados valiosos para aquellos que buscan explorar y nutrir su interioridad a través de la práctica meditativa.\nLos arquitectos desempeñan un papel clave en la creación de entornos que no solo son estéticamente agradables\, sino que también promueven la salud y el bienestar de la sociedad en su conjunto. En última instancia\, la arquitectura se presenta como un agente transformador capaz de moldear el futuro de nuestras ciudades y\, por ende\, la vida misma de quienes las habitan. \n\n\nHaz una Donación AQUI \n\nAdquiere tu Membresía y obtén beneficios AQUI
URL:https://elgiro.org/event/la-influencia-transformadora-de-la-arquitectura-en-el-bienestar-neuroestetica-y-salud-mental-por-koncha-pinos/
ATTACH;FMTTYPE=image/jpeg:https://elgiro.org/wp-content/uploads/2023/12/WhatsApp-Image-2023-12-11-at-06.25.17.jpeg
END:VEVENT
END:VCALENDAR