BEGIN:VCALENDAR
VERSION:2.0
PRODID:-//El Giro - ECPv6.13.2.1//NONSGML v1.0//EN
CALSCALE:GREGORIAN
METHOD:PUBLISH
X-ORIGINAL-URL:https://elgiro.org
X-WR-CALDESC:Eventos para El Giro
REFRESH-INTERVAL;VALUE=DURATION:PT1H
X-Robots-Tag:noindex
X-PUBLISHED-TTL:PT1H
BEGIN:VTIMEZONE
TZID:UTC
BEGIN:STANDARD
TZOFFSETFROM:+0000
TZOFFSETTO:+0000
TZNAME:UTC
DTSTART:20230101T000000
END:STANDARD
END:VTIMEZONE
BEGIN:VEVENT
DTSTART;VALUE=DATE:20231123
DTEND;VALUE=DATE:20231126
DTSTAMP:20260423T174109
CREATED:20230921T184612Z
LAST-MODIFIED:20230921T184612Z
UID:212523-1700697600-1700956799@elgiro.org
SUMMARY:World Peace Forum Barcelona 2023.Real cercle Artistic
DESCRIPTION:
URL:https://elgiro.org/event/world-peace-forum-barcelona-2023-real-cercle-artistic/
ATTACH;FMTTYPE=image/jpeg:https://elgiro.org/wp-content/uploads/2023/09/WhatsApp-Image-2023-09-21-at-08.15.16.jpeg
END:VEVENT
END:VCALENDAR