BEGIN:VCALENDAR
VERSION:2.0
PRODID:-//El Giro - ECPv6.13.2.1//NONSGML v1.0//EN
CALSCALE:GREGORIAN
METHOD:PUBLISH
X-ORIGINAL-URL:https://elgiro.org
X-WR-CALDESC:Eventos para El Giro
REFRESH-INTERVAL;VALUE=DURATION:PT1H
X-Robots-Tag:noindex
X-PUBLISHED-TTL:PT1H
BEGIN:VTIMEZONE
TZID:America/Argentina/Cordoba
BEGIN:STANDARD
TZOFFSETFROM:-0300
TZOFFSETTO:-0300
TZNAME:-03
DTSTART:20230101T000000
END:STANDARD
END:VTIMEZONE
BEGIN:VEVENT
DTSTART;TZID=America/Argentina/Cordoba:20231106T190000
DTEND;TZID=America/Argentina/Cordoba:20231106T200000
DTSTAMP:20260423T173945
CREATED:20230923T204408Z
LAST-MODIFIED:20230924T142334Z
UID:212569-1699297200-1699300800@elgiro.org
SUMMARY:El Circulo de Sophia Cordoba - Argentina. Presencial 
DESCRIPTION:El Circulo de Sophia Cordoba – Argentina. Presencial  \nDirigido por Koncha Pinós\,  facilitado por Marco Leone y Jose Luis Valle.\nInicio 6 de noviembre 2023 a 7 a 8 pm hora Argentina\n\nÚnete al Círculo de Sophia en Córdoba Argentina. \n¡Descubre el Camino hacia el Bienestar y la Sabiduría! \nEstamos emocionados de anunciar el lanzamiento del Círculo de Sophia en Fundación Aprendizaje para el Cambio Argentina\, Cordoba\, un espacio dedicado al crecimiento personal\, la meditación y la búsqueda de la sabiduría interior. Bajo la dirección de Koncha Pinos y facilitado por Marco Leone y Jose Luis Valle\, el Círculo de Sophia es un lugar donde encontrarás apoyo\, comunidad y las herramientas necesarias para cultivar el bienestar en tu vida. \n¿Qué Ofrecemos? \nSesiones de Meditación Guiada: Experimenta la tranquilidad y la calma a través de nuestras sesiones de meditación guiada por facilitadores certificados. Descubre cómo la meditación puede transformar tu vida. \nComunidad y Apoyo: Únete a una comunidad cálida y solidaria de personas que comparten tus intereses y valores. Aquí encontrarás un espacio para conectarte\, compartir experiencias y crecer juntos. \n¿Cómo Puedes Unirte? \n¡Es fácil! Simplemente regístrate para obtener tu membresía anual gratuita o con un donativo . Con ella\, tendrás acceso a dos sesiones de meditación mensuales por dos cuatrimestres y nuestro exclusivo programa “365 Meditaciones” para una práctica constante en casa. \n¿Dónde Nos Encontramos? \nNuestro espacio Sede de Fundación Aprendizaje para el Cambio Argentina\, Calle Baigorri 356\, Barrio Alta Cordoba Argentina\, te brinda un refugio de bienestar en medio de la vida cotidiana. Ven y descubre la serenidad en un entorno acogedor diseñado para tu tranquilidad. \n¿Estás Listo para Empezar Tu Viaje hacia el Bienestar y la Sabiduría? \n¡Únete al Círculo de Cordoba en Argentina y comienza a transformar tu vida hoy mismo! Para inscripciones y más información\, contáctanos en info@thewellbeingplanet.org o  www.thewellbeingplanet.org . Te esperamos con los brazos abiertos para acompañarte en tu camino hacia el bienestar. \nInscripciones AQUI
URL:https://elgiro.org/event/el-circulo-de-sophia-cordoba-argentina-presencial/
ATTACH;FMTTYPE=image/jpeg:https://elgiro.org/wp-content/uploads/2023/09/cordoba.jpeg
END:VEVENT
END:VCALENDAR