BEGIN:VCALENDAR
VERSION:2.0
PRODID:-//El Giro - ECPv6.13.2.1//NONSGML v1.0//EN
CALSCALE:GREGORIAN
METHOD:PUBLISH
X-WR-CALNAME:El Giro
X-ORIGINAL-URL:https://elgiro.org
X-WR-CALDESC:Eventos para El Giro
REFRESH-INTERVAL;VALUE=DURATION:PT1H
X-Robots-Tag:noindex
X-PUBLISHED-TTL:PT1H
BEGIN:VTIMEZONE
TZID:UTC
BEGIN:STANDARD
TZOFFSETFROM:+0000
TZOFFSETTO:+0000
TZNAME:UTC
DTSTART:20230101T000000
END:STANDARD
END:VTIMEZONE
BEGIN:VEVENT
DTSTART;TZID=UTC:20231020T100000
DTEND;TZID=UTC:20231020T130000
DTSTAMP:20260423T193347
CREATED:20230922T143522Z
LAST-MODIFIED:20230922T143522Z
UID:212551-1697796000-1697806800@elgiro.org
SUMMARY:"Taller de Aromaterapia India: Perfumes y Reducción del Estrés". 20 de Octubre 2023. Queretaro. 3 horas.
DESCRIPTION:En este taller se abordarán los siguientes temas: \nPrimera parte: \n\nFundamentos de la Aromaterapia India\nBreve introducción a la aromaterapia y su historia en la India.\nExplicación de cómo se utilizan los aceites esenciales en la aromaterapia india.\nDiscusión sobre los beneficios para la salud física y emocional.\n\nSegunda parte: \n\nAceites Esenciales Esenciales y su Papel en la Reducción del Estrés.\nPresentación de los cinco aceites esenciales básicos en la aromaterapia india y sus propiedades para aliviar el estrés\, conciliar el sueño\, liberar la tensión; y su acción para elevar la energía\, mejorar la concentración y el estado de ánimo. Los aceites que se estudiarán son: sándalo\, lavanda\, ylang-yalang\, menta\, limón.\nDiscusión sobre las diferentes formas de uso de los aceites esenciales en situaciones de estrés\, como la inhalación directa desde el frasco\, la difusión en el aire o la aplicación en puntos de pulso.\n\nTercera parte: \n\nDemostración y Práctica: explicación de cómo estos aceites esenciales pueden ser inhalados o aplicados tópicamente para ayudar a reducir el estrés y la tensión.\nDemostración de cómo usar cada uno de los aceites esenciales para reducir el estrés\, incluyendo técnicas de inhalación y masaje.\nEjercicios  prácticos de respiración y meditación con la ayuda de los aceites esenciales para reducir aún más el estrés.\n\nCuarta parte: \n\nCreación de un Perfume Personalizado\nLos participantes tienen la oportunidad de crear su propio perfume personalizado utilizando los aceites esenciales aprendidos\, enfocándose en las mezclas que pueden ayudar a aliviar el estrés.\nSe les guía en la selección y combinación de aceites esenciales específicos para sus necesidades de relajación.\nSe enfatiza en cómo llevar consigo el perfume personalizado y aplicarlo en situaciones de estrés.\n\nFecha: 20 de octubre\, 2023 \nHorario: 10:00 am-1:00 pm \nLugar: Centro Teos \nReal del Monte 848 La Joya II\, Querétaro. \nDonativo: 100-150 dls. o su equivalente en pesos mexicanos. \nIncripciones: info@thewellbeingplanet.org
URL:https://elgiro.org/event/taller-de-aromaterapia-india-perfumes-y-reduccion-del-estres-20-de-octubre-2023-queretaro-3-horas/
ATTACH;FMTTYPE=image/jpeg:https://elgiro.org/wp-content/uploads/2023/09/WhatsApp-Image-2023-09-11-at-01.42.20-1.jpeg
END:VEVENT
END:VCALENDAR