BEGIN:VCALENDAR
VERSION:2.0
PRODID:-//El Giro - ECPv6.13.2.1//NONSGML v1.0//EN
CALSCALE:GREGORIAN
METHOD:PUBLISH
X-ORIGINAL-URL:https://elgiro.org
X-WR-CALDESC:Eventos para El Giro
REFRESH-INTERVAL;VALUE=DURATION:PT1H
X-Robots-Tag:noindex
X-PUBLISHED-TTL:PT1H
BEGIN:VTIMEZONE
TZID:America/Panama
BEGIN:STANDARD
TZOFFSETFROM:-0500
TZOFFSETTO:-0500
TZNAME:EST
DTSTART:20230101T000000
END:STANDARD
END:VTIMEZONE
BEGIN:VEVENT
DTSTART;TZID=America/Panama:20231002T080000
DTEND;TZID=America/Panama:20231005T103000
DTSTAMP:20260423T192400
CREATED:20230919T112927Z
LAST-MODIFIED:20230919T112927Z
UID:212507-1696233600-1696501800@elgiro.org
SUMMARY:"Entrenamiento TWP para Emergencias Climáticas"
DESCRIPTION:Es un programa que proporciona una capacitación psicológica y apoyo psicosocial fundamental para terapeutas\, sanadores y profesionales relacionados con la asistencia a afectados por el cambio climático. \nEstá diseñado específicamente para abordar los cada vez más evidentes impactos en la salud mental derivados de la emergencia climática. Enfocado en ofrecer una comprensión completa y aplicable\, este programa se basa en un enfoque integrador y sólido que abarca múltiples enfoques de las ciencias del comportamiento y filosofías. Además\, proporciona una visión profunda de las complejas raíces sistémicas de las condiciones emocionales relacionadas con el medio ambiente. \nLa Psicoterapia Contemplativa Climática es una disciplina que se adapta a diversas orientaciones terapéuticas y se ha convertido en una necesidad imperante en un mundo donde la eco-ansiedad\, el eco-duelo y diversas expresiones del temor inducido por el clima son cada vez más comunes. Este programa se enfoca en dotar a los voluntarios participantes con las herramientas y el conocimiento necesarios para abordar y comprender las complejidades de la salud mental en el contexto de la emergencia climática. \nAlgunos de los temas clave que los participantes explorarán incluyen: \n\nLos impactos inmediatos en la salud mental de los desastres relacionados con el clima.\nEl estrés\, la eco ansiedad\, el miedo sostenido de vivir con la realidad del cambio climático a lo largo del tiempo.\nHabilidades terapéuticas basadas en el trauma y la resiliencia emocional\, junto con estrategias para motivar una acción efectiva.\nDilemas existenciales que pueden surgir en el proceso terapéutico\, como decisiones sobre la formación de una familia\, la reubicación para evitar desastres climáticos\, la ruptura de relaciones familiares\, los desplazados\, refugiados\, desplazados y\, en términos más generales\, cómo navegar el futuro en un mundo con amenazas climáticas en constante aumento.\nImpacto en el cuidador que asiste a los afectados por el cambio climático\nEl valor de los grupos terapéuticos y de las comunidades globales de apoyo permanente\n\nComo funciona este entrenamiento  \nEste programa mantiene grupos de participantes pequeños- 25 personas en cada curso- de manera deliberada\, fomentando conexiones que pueden llevar a una red profesional de por vida\, colaboraciones compartidas y referencias cruzadas. Los módulos de aprendizaje pueden ser tomados en las convocatorias mensuales para voluntarios o en línea incluyen una combinación de conferencias magistrales\, discusiones interactivas\, ejercicios prácticos\, trabajo en grupos pequeños y aplicaciones en entornos clínicos y terapéuticos. Además\, los estudiantes tendrán acceso a materiales adicionales y oportunidades para conectarse y colaborar a través de la plataforma en línea y un chat grupal donde preguntar sus dudas\, inquietudes o sugerencias. \nFechas: \n02/10 al 05/10 de 08:00 a 10:30 hora de Panamá \nInscripciones
URL:https://elgiro.org/event/entrenamiento-twp-para-emergencias-climaticas/
ATTACH;FMTTYPE=image/png:https://elgiro.org/wp-content/uploads/2023/09/LOGO-1-.png
END:VEVENT
END:VCALENDAR