BEGIN:VCALENDAR
VERSION:2.0
PRODID:-//El Giro - ECPv6.13.2.1//NONSGML v1.0//EN
CALSCALE:GREGORIAN
METHOD:PUBLISH
X-ORIGINAL-URL:https://elgiro.org
X-WR-CALDESC:Eventos para El Giro
REFRESH-INTERVAL;VALUE=DURATION:PT1H
X-Robots-Tag:noindex
X-PUBLISHED-TTL:PT1H
BEGIN:VTIMEZONE
TZID:UTC
BEGIN:STANDARD
TZOFFSETFROM:+0000
TZOFFSETTO:+0000
TZNAME:UTC
DTSTART:20230101T000000
END:STANDARD
END:VTIMEZONE
BEGIN:VEVENT
DTSTART;TZID=UTC:20230920T080000
DTEND;TZID=UTC:20230920T170000
DTSTAMP:20260425T115245
CREATED:20230920T112626Z
LAST-MODIFIED:20230920T112626Z
UID:212518-1695196800-1695229200@elgiro.org
SUMMARY:El Circulo de Sophia 14 Octubre Ensenada\, 23 Octubre CDMEX The Wellbeing Planet Foundation- البرامج والدورات Ver menos
DESCRIPTION:Inscripciones AQUI
URL:https://elgiro.org/event/el-circulo-de-sophia-14-octubre-ensenada-23-octubre-cdmex-the-wellbeing-planet-foundation-%d8%a7%d9%84%d8%a8%d8%b1%d8%a7%d9%85%d8%ac-%d9%88%d8%a7%d9%84%d8%af%d9%88%d8%b1%d8%a7%d8%aa-ver-menos/
END:VEVENT
END:VCALENDAR