BEGIN:VCALENDAR
VERSION:2.0
PRODID:-//El Giro - ECPv6.13.2.1//NONSGML v1.0//EN
CALSCALE:GREGORIAN
METHOD:PUBLISH
X-ORIGINAL-URL:https://elgiro.org
X-WR-CALDESC:Eventos para El Giro
REFRESH-INTERVAL;VALUE=DURATION:PT1H
X-Robots-Tag:noindex
X-PUBLISHED-TTL:PT1H
BEGIN:VTIMEZONE
TZID:UTC
BEGIN:STANDARD
TZOFFSETFROM:+0000
TZOFFSETTO:+0000
TZNAME:UTC
DTSTART:20230101T000000
END:STANDARD
END:VTIMEZONE
BEGIN:VEVENT
DTSTART;TZID=UTC:20230821T080000
DTEND;TZID=UTC:20230821T170000
DTSTAMP:20260425T114041
CREATED:20230821T124417Z
LAST-MODIFIED:20230821T124504Z
UID:212448-1692604800-1692637200@elgiro.org
SUMMARY:Si los árboles tuvieran la palabra. ..
DESCRIPTION:Si los árboles tuvieran la palabra. ..\nSi les arbres avaient la parole..\npor Elie Shafak
URL:https://elgiro.org/event/si-los-arboles-tuvieran-la-palabra/
END:VEVENT
END:VCALENDAR