BEGIN:VCALENDAR
VERSION:2.0
PRODID:-//El Giro - ECPv6.13.2.1//NONSGML v1.0//EN
CALSCALE:GREGORIAN
METHOD:PUBLISH
X-ORIGINAL-URL:https://elgiro.org
X-WR-CALDESC:Eventos para El Giro
REFRESH-INTERVAL;VALUE=DURATION:PT1H
X-Robots-Tag:noindex
X-PUBLISHED-TTL:PT1H
BEGIN:VTIMEZONE
TZID:UTC
BEGIN:STANDARD
TZOFFSETFROM:+0000
TZOFFSETTO:+0000
TZNAME:UTC
DTSTART:20230101T000000
END:STANDARD
END:VTIMEZONE
BEGIN:VEVENT
DTSTART;TZID=UTC:20230717T080000
DTEND;TZID=UTC:20230717T170000
DTSTAMP:20260425T114029
CREATED:20230717T085100Z
LAST-MODIFIED:20230717T085100Z
UID:212438-1689580800-1689613200@elgiro.org
SUMMARY:NOMADIC NATURE
DESCRIPTION:Nos inspira… Los beneficios de hacer retiros \nEl retiro de meditación ofrece numerosos beneficios para aquellos que participan en él. Algunos de los beneficios comunes incluyen: \nReducción del estrés: El retiro de meditación proporciona un ambiente tranquilo y propicio para reducir el estrés acumulado. La meditación ayuda a calmar la mente\, liberar tensiones y promover la relajación profunda. \nMejora del enfoque y la claridad mental: Al practicar la meditación de forma regular durante el retiro\, se fortalece la capacidad de concentración y se obtiene mayor claridad mental. Esto puede llevar a una mayor eficiencia y productividad en diversas áreas de la vida. \nIncremento de la creatividad: La meditación favorece la conexión con la intuición y el acceso a niveles más profundos de conciencia. Esto puede potenciar la creatividad y la capacidad de encontrar soluciones innovadoras a los desafíos. \nMayor bienestar emocional: El retiro de meditación brinda la oportunidad de explorar y comprender las emociones en un entorno seguro. La práctica meditativa ayuda a desarrollar una mayor autoconciencia y a cultivar una actitud de aceptación y equilibrio emocional. \nDesarrollo espiritual: Para aquellos que buscan una conexión más profunda con su ser interior o una dimensión espiritual\, el retiro de meditación puede ser un camino valioso. Proporciona un espacio sagrado para explorar la esencia espiritual y profundizar en la conexión con lo trascendente. \nEs importante tener en cuenta que los beneficios de un retiro de meditación pueden variar según la persona y la dedicación que se le ponga a la práctica. Cada individuo puede experimentar resultados únicos y personales en su camino de meditación. \nMás informacion sobre retiros y viajes en www.thewellbeingplanet.org 
URL:https://elgiro.org/event/nomadic-nature/
ATTACH;FMTTYPE=image/jpeg:https://elgiro.org/wp-content/uploads/2023/07/IMG_0063.jpg
END:VEVENT
END:VCALENDAR